{
 "links": [
  {
   "rel": "self",
   "type": "application/json",
   "title": "Local definition of NetherlandsRDNewQuad TileMatrixSet",
   "href": "https://api.pdok.nl/kadaster/bag/ogc/v2/tileMatrixSets/NetherlandsRDNewQuad?f=json"
  }
 ],
 "id": "NetherlandsRDNewQuad",
 "title": "Amersfoort / RD New scheme for the Netherlands",
 "crs": "http://www.opengis.net/def/crs/EPSG/0/28992",
 "wellKnownScaleSet": "urn:ogc:def:wkss:OGC:1.0:NLDEPSG28992Scale",
 "tileMatrices": [
  {
   "id": "0",
   "tileWidth": 256,
   "tileHeight": 256,
   "matrixWidth": 1,
   "matrixHeight": 1,
   "scaleDenominator": 1.2288e7,
   "cellSize": 3440.64,
   "pointOfOrigin": [
    -285401.92,
    903401.92
   ]
  },
  {
   "id": "1",
   "tileWidth": 256,
   "tileHeight": 256,
   "matrixWidth": 2,
   "matrixHeight": 2,
   "scaleDenominator": 6144000.0,
   "cellSize": 1720.32,
   "pointOfOrigin": [
    -285401.92,
    903401.92
   ]
  },
  {
   "id": "2",
   "tileWidth": 256,
   "tileHeight": 256,
   "matrixWidth": 4,
   "matrixHeight": 4,
   "scaleDenominator": 3072000.0,
   "cellSize": 860.16,
   "pointOfOrigin": [
    -285401.92,
    903401.92
   ]
  },
  {
   "id": "3",
   "tileWidth": 256,
   "tileHeight": 256,
   "matrixWidth": 8,
   "matrixHeight": 8,
   "scaleDenominator": 1536000.0,
   "cellSize": 430.08,
   "pointOfOrigin": [
    -285401.92,
    903401.92
   ]
  },
  {
   "id": "4",
   "tileWidth": 256,
   "tileHeight": 256,
   "matrixWidth": 16,
   "matrixHeight": 16,
   "scaleDenominator": 768000.0,
   "cellSize": 215.04,
   "pointOfOrigin": [
    -285401.92,
    903401.92
   ]
  },
  {
   "id": "5",
   "tileWidth": 256,
   "tileHeight": 256,
   "matrixWidth": 32,
   "matrixHeight": 32,
   "scaleDenominator": 384000.0,
   "cellSize": 107.52,
   "pointOfOrigin": [
    -285401.92,
    903401.92
   ]
  },
  {
   "id": "6",
   "tileWidth": 256,
   "tileHeight": 256,
   "matrixWidth": 64,
   "matrixHeight": 64,
   "scaleDenominator": 192000.0,
   "cellSize": 53.76,
   "pointOfOrigin": [
    -285401.92,
    903401.92
   ]
  },
  {
   "id": "7",
   "tileWidth": 256,
   "tileHeight": 256,
   "matrixWidth": 128,
   "matrixHeight": 128,
   "scaleDenominator": 96000.0,
   "cellSize": 26.88,
   "pointOfOrigin": [
    -285401.92,
    903401.92
   ]
  },
  {
   "id": "8",
   "tileWidth": 256,
   "tileHeight": 256,
   "matrixWidth": 256,
   "matrixHeight": 256,
   "scaleDenominator": 48000.0,
   "cellSize": 13.44,
   "pointOfOrigin": [
    -285401.92,
    903401.92
   ]
  },
  {
   "id": "9",
   "tileWidth": 256,
   "tileHeight": 256,
   "matrixWidth": 512,
   "matrixHeight": 512,
   "scaleDenominator": 24000.0,
   "cellSize": 6.72,
   "pointOfOrigin": [
    -285401.92,
    903401.92
   ]
  },
  {
   "id": "10",
   "tileWidth": 256,
   "tileHeight": 256,
   "matrixWidth": 1024,
   "matrixHeight": 1024,
   "scaleDenominator": 12000.0,
   "cellSize": 3.36,
   "pointOfOrigin": [
    -285401.92,
    903401.92
   ]
  },
  {
   "id": "11",
   "tileWidth": 256,
   "tileHeight": 256,
   "matrixWidth": 2048,
   "matrixHeight": 2048,
   "scaleDenominator": 6000.0,
   "cellSize": 1.68,
   "pointOfOrigin": [
    -285401.92,
    903401.92
   ]
  },
  {
   "id": "12",
   "tileWidth": 256,
   "tileHeight": 256,
   "matrixWidth": 4096,
   "matrixHeight": 4096,
   "scaleDenominator": 3000.0,
   "cellSize": 0.84,
   "pointOfOrigin": [
    -285401.92,
    903401.92
   ]
  },
  {
   "id": "13",
   "tileWidth": 256,
   "tileHeight": 256,
   "matrixWidth": 8192,
   "matrixHeight": 8192,
   "scaleDenominator": 1500.0,
   "cellSize": 0.42,
   "pointOfOrigin": [
    -285401.92,
    903401.92
   ]
  },
  {
   "id": "14",
   "tileWidth": 256,
   "tileHeight": 256,
   "matrixWidth": 16384,
   "matrixHeight": 16384,
   "scaleDenominator": 750.0,
   "cellSize": 0.21,
   "pointOfOrigin": [
    -285401.92,
    903401.92
   ]
  },
  {
   "id": "15",
   "tileWidth": 256,
   "tileHeight": 256,
   "matrixWidth": 32768,
   "matrixHeight": 32768,
   "scaleDenominator": 375.0,
   "cellSize": 0.105,
   "pointOfOrigin": [
    -285401.92,
    903401.92
   ]
  },
  {
   "id": "16",
   "tileWidth": 256,
   "tileHeight": 256,
   "matrixWidth": 65536,
   "matrixHeight": 65536,
   "scaleDenominator": 187.5,
   "cellSize": 0.0525,
   "pointOfOrigin": [
    -285401.92,
    903401.92
   ]
  }
 ],
 "orderedAxes": [
  "X",
  "Y"
 ]
}
